BEGIN:VCALENDAR
VERSION:2.0
PRODID:-//Contratero//ES
CALSCALE:GREGORIAN
METHOD:PUBLISH
BEGIN:VEVENT
UID:DNA 359/2023@contratero.es
DTSTAMP:20260423T062729Z
DTSTART:20231218T235959
DTEND:20231219T005959
SUMMARY:Cierre: Desarrollo en etna con metodología agile iv
DESCRIPTION:Desarrollo en etna con metodología agile iv\\n\\nOrganismo: Dirección Económico-Financiera de ENAIRE\\n\\nVer en Contratero: https://contratero.es/contracts/DNA 359/2023
URL:https://contratero.es/contracts/DNA 359/2023
STATUS:CONFIRMED
BEGIN:VALARM
TRIGGER:-P1D
ACTION:DISPLAY
DESCRIPTION:Recordatorio: Desarrollo en etna con metodol
END:VALARM
END:VEVENT
END:VCALENDAR